BEGIN:VCALENDAR
VERSION:2.0
PRODID:-//eventon.com NONSGML v1.0//EN
CALSCALE:GREGORIAN
METHOD:PUBLISH
BEGIN:VEVENT
UID:69ec362b72b21
DTSTAMP:20260425T033403Z
DTSTART:20240330T130000Z
DTEND:20240330T170000Z
LOCATION:
SUMMARY:MetPark Saturday
DESCRIPTION:MetPark Saturday\nhttps://myalfajor.com/events/eatloco-metpark/
URL:https://myalfajor.com/events/eatloco-metpark/
END:VEVENT
END:VCALENDAR