BEGIN:VCALENDAR
VERSION:2.0
PRODID:-//eventon.com NONSGML v1.0//EN
CALSCALE:GREGORIAN
METHOD:PUBLISH
BEGIN:VEVENT
UID:69e8f9a09fdf8
DTSTAMP:20260422T163856Z
DTSTART:20240824T150000Z
DTEND:20240824T230000Z
LOCATION:
SUMMARY:Around The World Cultural Food
DESCRIPTION:Around The World Cultural Food\nhttps://myalfajor.com/events/ar
 ound-the-world-cultural-food/
URL:https://myalfajor.com/events/around-the-world-cultural-food/
END:VEVENT
END:VCALENDAR